BEGIN:VCALENDAR
VERSION:2.0
PRODID:-//eventon.com NONSGML v1.0//EN
CALSCALE:GREGORIAN
METHOD:PUBLISH
BEGIN:VEVENT
UID:69e5e4de84840
DTSTAMP:20260420T083334Z
DTSTART:20250905
DTEND:20250906
LOCATION:
SUMMARY:Torneo Infantil de Pádel Ferias y Fiestas Consuegra 2025
DESCRIPTION:Consuegra Padel Club con la colaboración de la Concejalía de 
 Deportes del Excmo. Ayuntamiento de Consuegra organiza  TORNEO INFANTIL DE
  PADEL\,  con motivo de las Ferias y Fiestas 2025\,  del 5 al 7 de septiemb
 re.  CUÁNDO:  5\,  6 y 7 de septiembre de 2025. DÓNDE: Pistas Municipal
 es (C/ Urda\,  s/n)[..]\nhttps://aytoconsuegra.es/agenda-ciudadana/torneo-i
 nfantil-de-padel-ferias-y-fiestas-consuegra-2025/
URL:https://aytoconsuegra.es/agenda-ciudadana/torneo-infantil-de-padel-ferias-y-fiestas-consuegra-2025/
END:VEVENT
END:VCALENDAR