BEGIN:VCALENDAR
VERSION:2.0
PRODID:-//eventon.com NONSGML v1.0//EN
CALSCALE:GREGORIAN
METHOD:PUBLISH
BEGIN:VEVENT
UID:69e5fbcd2f39c
DTSTAMP:20260420T101125Z
DTSTART:20251018T230000Z
DTEND:20251019T225900Z
LOCATION:
SUMMARY:Chupinazo LXIII Rosa del AzafrÃ¡n 2025
DESCRIPTION:Bienvenidos a la sesenta y tres ediciÃ³n de la Fiesta Rosa del 
 AzafrÃ¡n. El CHUPINAZO anunciador del inicio de las fiestas Rosa del AzafrÃ
 ¡n 2025\,  tendrÃ¡ lugar el domingo 19 de octubre en Plaza EspaÃ±a. Domingo
  19 de octubre 12:00H. CHUPINAZO ANUNCIADOR DE INICIO DE FIESTAS\,  desde e
 l balcÃ³n principal[..]\nhttps://aytoconsuegra.es/agenda-ciudadana/chupinaz
 o-lxiii-rosa-del-azafran-2025/
URL:https://aytoconsuegra.es/agenda-ciudadana/chupinazo-lxiii-rosa-del-azafran-2025/
END:VEVENT
END:VCALENDAR