BEGIN:VCALENDAR
VERSION:2.0
PRODID:-//eventon.com NONSGML v1.0//EN
CALSCALE:GREGORIAN
METHOD:PUBLISH
BEGIN:VEVENT
UID:69e74d800b586
DTSTAMP:20260421T101216Z
DTSTART:20251227T200000Z
DTEND:20251227T235900Z
LOCATION:
SUMMARY:Concierto de Navidad 2025. Banda Sinfónica de Consuegra
DESCRIPTION:TEATRO DON QUIJOTE DE CONSUEGRA Concierto de Navidad\,  a cargo
  de la Banda Sinfónica de Consuegra\,   bajo la dirección de Vicente M. 
 Palop SÁBADO 27 DE DICIEMBRE DE 2025 20:00 H Entradas desde 5€ La Banda
  Sinfónica de Consuegra presenta Concierto de Navidad 2025.  Con la parti
 cipación de alumnos/as del CEIP[..]\nhttps://aytoconsuegra.es/agenda-ciuda
 dana/concierto-de-navidad-2025-a-cargo-de-la-banda-sinfonica-de-consuegra/
URL:https://aytoconsuegra.es/agenda-ciudadana/concierto-de-navidad-2025-a-cargo-de-la-banda-sinfonica-de-consuegra/
END:VEVENT
END:VCALENDAR