BEGIN:VCALENDAR
VERSION:2.0
PRODID:-//eventon.com NONSGML v1.0//EN
CALSCALE:GREGORIAN
METHOD:PUBLISH
BEGIN:VEVENT
UID:69e4d6ed71afa
DTSTAMP:20260419T132149Z
DTSTART:20251130T003000Z
DTEND:20251130T150000Z
LOCATION:
SUMMARY:X Jornada de la Cebolleta Consuegra 2025
DESCRIPTION:El próximo 30 de noviembre\,  la Plaza de España de Consuegra
  se convertirá en el epicentro de los sabores manchegos con la celebració
 n de las X Jornadas de la Cebolleta\,  un evento que rinde homenaje a uno d
 e los productos más emblemáticos de la comarca: la cebolleta\,  también 
 conocida como[..]\nhttps://aytoconsuegra.es/agenda-ciudadana/x-jornada-de-l
 a-cebolleta-consuegra-2025/
URL:https://aytoconsuegra.es/agenda-ciudadana/x-jornada-de-la-cebolleta-consuegra-2025/
END:VEVENT
END:VCALENDAR