BEGIN:VCALENDAR
VERSION:2.0
PRODID:-//eventon.com NONSGML v1.0//EN
CALSCALE:GREGORIAN
METHOD:PUBLISH
BEGIN:VEVENT
UID:69e4fc3e75418
DTSTAMP:20260419T160102Z
DTSTART:20251030T210000Z
DTEND:20251030T235900Z
LOCATION:
SUMMARY:Pleno Ordinario (30/10/2025)
DESCRIPTION:Por Resolución de Alcaldía 2025/1515 queda convocada SESIÓN 
 ORDINARIA del Pleno\,  que tendrá lugar el próximo día 30 de octubre de 
 2025 a las 21:00 horas\,  en el Salón de Actos del Ayuntamiento\,  con el 
 siguiente orden del día. ORDEN DEL DÍA A)  Parte resolutiva  1. Aprobac
 ión del acta de[..]\nhttps://aytoconsuegra.es/agenda-ciudadana/pleno-ordin
 ario-30-10-2025/
URL:https://aytoconsuegra.es/agenda-ciudadana/pleno-ordinario-30-10-2025/
END:VEVENT
END:VCALENDAR