BEGIN:VCALENDAR
VERSION:2.0
PRODID:-//eventon.com NONSGML v1.0//EN
CALSCALE:GREGORIAN
METHOD:PUBLISH
BEGIN:VEVENT
UID:69e7339b47fa0
DTSTAMP:20260421T082147Z
DTSTART:20251106T170000Z
DTEND:20251106T235900Z
LOCATION:
SUMMARY:Foro de Cine Centro de la Mujer "LAS MUJERES DE VERDAD TIENEN CURVAS"
DESCRIPTION:Foro Permanente de Cine del primer jueves de cada mes\,  en el 
 Centro de la Mujer de Consuegra FORO PERMANENTE DE #CINE. Próxima proyecci
 ón en nuestro Foro Permanente de Cine «LAS MUJERES DE VERDAD TIENEN CURVA
 S». Será una de las acciones de la campaña #StopViolenciaEstética25N qu
 e pondremos en marcha a[..]\nhttps://aytoconsuegra.es/agenda-ciudadana/foro
 -de-cine-centro-de-la-mujer-las-mujeres-de-verdad-tienen-curvas/
URL:https://aytoconsuegra.es/agenda-ciudadana/foro-de-cine-centro-de-la-mujer-las-mujeres-de-verdad-tienen-curvas/
END:VEVENT
END:VCALENDAR