BEGIN:VCALENDAR
VERSION:2.0
PRODID:-//eventon.com NONSGML v1.0//EN
CALSCALE:GREGORIAN
METHOD:PUBLISH
BEGIN:VEVENT
UID:69e5e4551c523
DTSTAMP:20260420T083117Z
DTSTART:20251231T130000Z
DTEND:20251231T235900Z
LOCATION:
SUMMARY:Nochevieja 2025. Campanadas infantiles
DESCRIPTION:El próximo miércoles 31 de diciembre en horario matinal\,  y 
 con motivo de la Nochevieja\,  celebramos en plaza España  el tradicional
  y especial acto de Campanadas Infantiles. Despedimos el año de una forma 
 muy especial y divertida con el reparto de gominolas a la población más j
 oven\,   a partir de[..]\nhttps://aytoconsuegra.es/agenda-ciudadana/nochev
 ieja-2025-campanadas-infantiles/
URL:https://aytoconsuegra.es/agenda-ciudadana/nochevieja-2025-campanadas-infantiles/
END:VEVENT
END:VCALENDAR