BEGIN:VCALENDAR
VERSION:2.0
PRODID:-//eventon.com NONSGML v1.0//EN
CALSCALE:GREGORIAN
METHOD:PUBLISH
BEGIN:VEVENT
UID:69e5e7fda8f9f
DTSTAMP:20260420T084653Z
DTSTART:20260102T110000Z
DTEND:20260102T235900Z
LOCATION:
SUMMARY:Baloncesto 3x3 Navideño
DESCRIPTION:La Escuela Municipal de Baloncesto de Consuegra\,  organiza tor
 neo navideño 3&#215;3\,  su primera edición.  I TORNEO NAVIDEÑO BALONCE
 STO 3&#215;3 CUÁNDO: Viernes\,  2 de enero de 2026\,  de 11:00 a 13:00 hor
 as.  CATEGORÍA MINIBASKET (nacidos en 2014 y posteriores) DÓNDE: Paseo R
 amón y Cajal (frente al parque infantil). CONTACTO: 678404727 Torneo[..]\n
 https://aytoconsuegra.es/agenda-ciudadana/baloncesto-3x3-navideno/
URL:https://aytoconsuegra.es/agenda-ciudadana/baloncesto-3x3-navideno/
END:VEVENT
END:VCALENDAR