BEGIN:VCALENDAR
VERSION:2.0
PRODID:-//eventon.com NONSGML v1.0//EN
CALSCALE:GREGORIAN
METHOD:PUBLISH
BEGIN:VEVENT
UID:69e5fc216283a
DTSTAMP:20260420T101249Z
DTSTART:20260104T180000Z
DTEND:20260104T235900Z
LOCATION:
SUMMARY:Zambomba Flamenca por Esencia Gitana
DESCRIPTION:TEATRO DON QUIJOTE DE CONSUEGRA Asociación Cultural Flamenca E
 sencia Gitana presenta &#8230; Tamborrada Navideña DOMINGO 4 DE ENERO DE 2
 026 18:00 H &nbsp; TEATRO DON QUIJOTE Domingo 4 de enero de 2026 a las 18:
 00 horas Entrada 7€ Sumérgete en la magia de la Navidad con nuestro esp
 ectáculo Zambomba Flamenca\,  una propuesta[..]\nhttps://aytoconsuegra.es/
 agenda-ciudadana/zambomba-flamenca-por-esencia-gitana/
URL:https://aytoconsuegra.es/agenda-ciudadana/zambomba-flamenca-por-esencia-gitana/
END:VEVENT
END:VCALENDAR