BEGIN:VCALENDAR
VERSION:2.0
PRODID:-//eventon.com NONSGML v1.0//EN
CALSCALE:GREGORIAN
METHOD:PUBLISH
BEGIN:VEVENT
UID:69e61ad16e50a
DTSTAMP:20260420T122345Z
DTSTART:20260108T170000Z
DTEND:20260108T235900Z
LOCATION:
SUMMARY:Foro de Cine Centro de la Mujer "SORDA" (Jueves 8 de enero 2026)
DESCRIPTION:Foro Permanente de Cine del primer jueves de cada mes\,  en el 
 Centro de la Mujer de Consuegra FORO PERMANENTE DE #CINE. «SORDA» (2025).
  Una película de Eva Libertad.  Próximo jueves 8 de enero en el Centro d
 e la Mujer de #Consuegra a las 5 de la tarde\,  dentro de[..]\nhttps://ayto
 consuegra.es/agenda-ciudadana/foro-de-cine-centro-de-la-mujer-sorda-jueves-
 8-de-enero-2026/
URL:https://aytoconsuegra.es/agenda-ciudadana/foro-de-cine-centro-de-la-mujer-sorda-jueves-8-de-enero-2026/
END:VEVENT
END:VCALENDAR