BEGIN:VCALENDAR
VERSION:2.0
PRODID:-//eventon.com NONSGML v1.0//EN
CALSCALE:GREGORIAN
METHOD:PUBLISH
BEGIN:VEVENT
UID:69e63558b537a
DTSTAMP:20260420T141656Z
DTSTART:20260111T180000Z
DTEND:20260111T235900Z
LOCATION:
SUMMARY:Bobo de Periferia Teatro
DESCRIPTION:TEATRO DON QUIJOTE DE CONSUEGRA Periferia Teatro presenta BOBO 
 DOMINGO 11 DE ENERO DE 2026 18:00 H &nbsp; TEATRO DON QUIJOTE DOMINGO 11 d
 e enero de 2026 a las 18:00 horas Entrada 6€ Público: Infantil / Familia
 r/ Todos lo públicos Duración: 50 min. aprox. PERIFERIA TEATRO  presenta
  BOBO BoBo es un espectáculo[..]\nhttps://aytoconsuegra.es/agenda-ciudada
 na/bobo-de-periferia-teatro/
URL:https://aytoconsuegra.es/agenda-ciudadana/bobo-de-periferia-teatro/
END:VEVENT
END:VCALENDAR