BEGIN:VCALENDAR
VERSION:2.0
PRODID:-//eventon.com NONSGML v1.0//EN
CALSCALE:GREGORIAN
METHOD:PUBLISH
BEGIN:VEVENT
UID:69e664b9d5481
DTSTAMP:20260420T173905Z
DTSTART:20260124T200000Z
DTEND:20260124T235900Z
LOCATION:
SUMMARY:DÃ‰JÃ‚ VU- Festival Consuegra Tiene Magia 2026
DESCRIPTION:Â¡Consuegra Tiene Magia! \,  volvemos cargados de ilusiÃ³n para
  demostrar\,  una vez mÃ¡s\,  que Consuegra tiene MAGIA.Â Â  CONSUEGRA TIEN
 E MAGIA 2026 SÃ¡bado 24 de enero 20:00h en Teatro Don Quijote Consuegra. DÃ
 ‰JÃ‚ VU Una magia de otro mundo. Un espectÃ¡culo de teatro donde se funde l
 a magia y la ilusiÃ³n[..]\nhttps://aytoconsuegra.es/agenda-ciudadana/deja-v
 u-festival-consuegra-tiene-magia-2026/
URL:https://aytoconsuegra.es/agenda-ciudadana/deja-vu-festival-consuegra-tiene-magia-2026/
END:VEVENT
END:VCALENDAR