BEGIN:VCALENDAR
VERSION:2.0
PRODID:-//eventon.com NONSGML v1.0//EN
CALSCALE:GREGORIAN
METHOD:PUBLISH
BEGIN:VEVENT
UID:69e6a43a743a1
DTSTAMP:20260420T221002Z
DTSTART:20260328
DTEND:20260329
LOCATION:
SUMMARY:Agenda deportiva fin de semana (28 de marzo)
DESCRIPTION:Programación deportiva de fin de semana.  Temporada 2025/2026
  Sábado 28 de marzo 2026 &nbsp; Agenda Fútbol Base &nbsp; @deportes_consu
 egra @futsalconsuegra @consuegraligafutsal @consuegrapadelclub @clubdetenis
 consuegra @cbconsuegra @c.b.consuegra @juvenilconsuegra @juvenil_consuegra 
 @emf_infantil_consuegra_b @atlconsuegra @consuegraligafutsal Información y
  contacto: SERVICIO MUNICIPAL DE DEPORTES Oficina de Deportes &#8211; C/ Ur
 da\,  s/n final (Piscina Cubierta) Tlf. 678 404[..]\nhttps://aytoconsuegra.
 es/agenda-ciudadana/agenda-deportiva-fin-de-semana-28-de-marzo/
URL:https://aytoconsuegra.es/agenda-ciudadana/agenda-deportiva-fin-de-semana-28-de-marzo/
END:VEVENT
END:VCALENDAR