BEGIN:VCALENDAR
VERSION:2.0
PRODID:-//eventon.com NONSGML v1.0//EN
CALSCALE:GREGORIAN
METHOD:PUBLISH
BEGIN:VEVENT
UID:69e645794dc1f
DTSTAMP:20260420T152545Z
DTSTART:20250421
DTEND:20250422
LOCATION:
SUMMARY:Día del Libro 2026. Actos programados en Biblioteca Pública Municipal
DESCRIPTION:&nbsp; Biblioteca Pública Municipal de Consuegra. El Día del 
 Libro se acerca.   Con motivo del Día del Libro #23abril2026\,  informam
 os de los actos programados del 21 al 24 de abril: MARTES 21 DE ABRIL &#821
 1; 17:00h &#8211; 18:00h  Elena López Zabalo. Coach espiritual\,  escrito
 ra y divulgadora\,  nos hablará de su[..]\nhttps://aytoconsuegra.es/agenda
 -ciudadana/dia-del-libro-2026-actos-programados-en-biblioteca-publica-munic
 ipal/
URL:https://aytoconsuegra.es/agenda-ciudadana/dia-del-libro-2026-actos-programados-en-biblioteca-publica-municipal/
END:VEVENT
END:VCALENDAR