BEGIN:VCALENDAR
VERSION:2.0
PRODID:-//eventon.com NONSGML v1.0//EN
CALSCALE:GREGORIAN
METHOD:PUBLISH
BEGIN:VEVENT
UID:69e611a2290d5
DTSTAMP:20260420T114434Z
DTSTART:20260516T120000Z
DTEND:20260516T225900Z
LOCATION:
SUMMARY:JAM SESSION. Edición Primavera Consuegra 2026
DESCRIPTION:El próximo 16 de mayo el Ayuntamiento de Consuegra y la asocia
 ción Acordes y Desacuerdos presentan JAM SESSION Edición Primavera. JAM S
 ESSION EDICIÓN PRIMAVERA 2026. Sábado 16 mayo\,  desde las 13:00 horas. P
 aseo Ramón y Cajal (Junto al Libro) Además nos acompañará SETOSA DJ. Ev
 ento organizado por el @aytoconsuegra @concejalia_turismoycultura y la a
 sociación @acordes_desacuerdos[..]\nhttps://aytoconsuegra.es/agenda-ciuda
 dana/jam-session-edicion-primavera-consuegra-2026/
URL:https://aytoconsuegra.es/agenda-ciudadana/jam-session-edicion-primavera-consuegra-2026/
END:VEVENT
END:VCALENDAR