BEGIN:VCALENDAR
VERSION:2.0
PRODID:-//eventon.com NONSGML v1.0//EN
CALSCALE:GREGORIAN
METHOD:PUBLISH
BEGIN:VEVENT
UID:69e976c0421f7
DTSTAMP:20260423T013248Z
DTSTART:20260503T073000Z
DTEND:20260503T225900Z
LOCATION:
SUMMARY:IV Aniversario de La Burra de Sancho 2026
DESCRIPTION:La Burra de Sancho\,  concentración motera\,  con la colaborac
 ión del Excmo. Ayuntamiento de Consuegra\,  celebra su cuarto aniversario 
 en Consuegra con todos vosotros.  IV ANIVERSARIO LA BURRA DE SANCHO 2026 C
 UÁNDO: Domingo 3 de mayo. DÓNDE: Paseo Ortega y Munilla (La Pista). Entra
 da por Plaza de San Juan. Inscripciones voluntarias[..]\nhttps://aytoconsue
 gra.es/agenda-ciudadana/iv-aniversario-de-la-burra-de-sancho-2026/
URL:https://aytoconsuegra.es/agenda-ciudadana/iv-aniversario-de-la-burra-de-sancho-2026/
END:VEVENT
END:VCALENDAR