BEGIN:VCALENDAR
VERSION:2.0
PRODID:-//eventon.com NONSGML v1.0//EN
CALSCALE:GREGORIAN
METHOD:PUBLISH
BEGIN:VEVENT
UID:69e5e530c9518
DTSTAMP:20260420T083456Z
DTSTART:20191214
DTEND:20191215
LOCATION:
SUMMARY:IX Campaña de Compras Navideñas 2019/2020
DESCRIPTION:La Concejalía de Promoción Empresarial y Desarrollo Local y e
 l Centro de la Mujer del Ayuntamiento de Consuegra\,  organiza IX CAMPAÑA 
 DE COMPRAS NAVIDEÑAS EN LOS COMERCIOS DE CONSUEGRA «AL LADO DEL PEQUEÑO 
 COMERCIO» #YOCOMPROENCONSUEGRA.  El objetivo de la campaña será la de p
 romocionar\,  dinamizar y activar el pequeño y[..]\nhttps://aytoconsuegra.
 es/agenda-ciudadana/viii-campana-de-compras-navidenas-2018/
URL:https://aytoconsuegra.es/agenda-ciudadana/viii-campana-de-compras-navidenas-2018/
END:VEVENT
END:VCALENDAR