BEGIN:VCALENDAR
VERSION:2.0
PRODID:-//eventon.com NONSGML v1.0//EN
CALSCALE:GREGORIAN
METHOD:PUBLISH
BEGIN:VEVENT
UID:69e9de808f83a
DTSTAMP:20260423T085528Z
DTSTART:20210521
DTEND:20210522
LOCATION:
SUMMARY:XXV Copa de trabajo para perros de utilidad de la RSCE
DESCRIPTION:Consuegra acogerá el fin de semana del 21 al 23 de mayo la XXV
  Copa de trabajo para perros de utilidad de la Real Sociedad Canina de Espa
 ña. La Real Sociedad Canina de España es la primera asociación canina na
 cional fundada en España y es miembro de pleno derecho de[..]\nhttps://ayt
 oconsuegra.es/agenda-ciudadana/xxv-copa-de-trabajo-para-perros-de-utilidad-
 de-la-rsce/
URL:https://aytoconsuegra.es/agenda-ciudadana/xxv-copa-de-trabajo-para-perros-de-utilidad-de-la-rsce/
END:VEVENT
END:VCALENDAR