BEGIN:VCALENDAR
VERSION:2.0
PRODID:-//eventon.com NONSGML v1.0//EN
CALSCALE:GREGORIAN
METHOD:PUBLISH
BEGIN:VEVENT
UID:69e5e4b3a2b25
DTSTAMP:20260420T083251Z
DTSTART:20210711
DTEND:20210712
LOCATION:
SUMMARY:Atardeceres en Vivo 2021. Música en directo entre molinos de viento.
DESCRIPTION:Atardeceres En Vivo vuelve a los molinos de Consuegra con un ca
 rtel repleto de talento local\,  nacional e internacional. Entradas disponi
 bles en atardeceresenvivo.com a partir del miércoles 23 de junio a las 12:
 00 horas. Tras un 2020 marcado por una pandemia que obligó a remodelar el 
 formato\,  Atardeceres en vivo[..]\nhttps://aytoconsuegra.es/agenda-ciudada
 na/atardeceres-en-vivo-2021-musica-en-directo-entre-molinos-de-viento/
URL:https://aytoconsuegra.es/agenda-ciudadana/atardeceres-en-vivo-2021-musica-en-directo-entre-molinos-de-viento/
END:VEVENT
END:VCALENDAR