BEGIN:VCALENDAR
VERSION:2.0
PRODID:-//eventon.com NONSGML v1.0//EN
CALSCALE:GREGORIAN
METHOD:PUBLISH
BEGIN:VEVENT
UID:69eae27852190
DTSTAMP:20260424T032440Z
DTSTART:20210410T200000Z
DTEND:20210410T235000Z
LOCATION:
SUMMARY:Cuentos a trazos de Paula Carbonell
DESCRIPTION:TEATRO DON QUIJOTE DE CONSUEGRA Paula Carbonell presenta Cuento
 s a trazos SÁBADO 10 DE ABRIL DE 2021 20:00 HORAS Espectáculo infantil y 
 familiar Entrada Infantil: 2 € Entrada Adulto: 3 € El pasado viernes 2 
 de abril fue el Día Internacional del Libro Infantil y Juvenil\,  este sá
 bado queremos celebrarlo[..]\nhttps://aytoconsuegra.es/agenda-ciudadana/cue
 nto-a-trazos-de-paula-carbonell/
URL:https://aytoconsuegra.es/agenda-ciudadana/cuento-a-trazos-de-paula-carbonell/
END:VEVENT
END:VCALENDAR