BEGIN:VCALENDAR
VERSION:2.0
PRODID:-//eventon.com NONSGML v1.0//EN
CALSCALE:GREGORIAN
METHOD:PUBLISH
BEGIN:VEVENT
UID:69eacf5fc85a3
DTSTAMP:20260424T020311Z
DTSTART:20210418T190000Z
DTEND:20210418T235000Z
LOCATION:
SUMMARY:Burbuja Doble de 7Bubbles
DESCRIPTION:TEATRO DON QUIJOTE DE CONSUEGRA 7Bubbles presenta Burbuja Doble
  &#8230;Porque una burbuja nunca fue suficiente&#8230; DOMINGO 18 DE ABRIL 
 DE 2021 19:00 HORAS Entrada Infantil: 3 € Entrada Adulto: 5 € VEN A CEL
 EBRAR EL DÍA MUNDIAL DEL CIRCO CON NOSOTROS BURBUJA DOBLE es la segunda pa
 rte de nuestra loca[..]\nhttps://aytoconsuegra.es/agenda-ciudadana/burbuja-
 doble-de-7bubbles/
URL:https://aytoconsuegra.es/agenda-ciudadana/burbuja-doble-de-7bubbles/
END:VEVENT
END:VCALENDAR