BEGIN:VCALENDAR
VERSION:2.0
PRODID:-//eventon.com NONSGML v1.0//EN
CALSCALE:GREGORIAN
METHOD:PUBLISH
BEGIN:VEVENT
UID:69eabb19392a8
DTSTAMP:20260424T003641Z
DTSTART:20210508T200000Z
DTEND:20210508T235000Z
LOCATION:
SUMMARY:Mister Fantastic de Francis Zafrilla
DESCRIPTION:TEATRO DON QUIJOTE DE CONSUEGRA Francis Zafrilla presenta Miste
 r Fantastic! SÁBADO 8 DE MAYO DE 2021 20:00 HORAS Espectáculo infantil y 
 familiar Entrada Infantil: 2 € Entrada Adulto: 3 € El nuevo y mágico s
 how de Francis Zafrilla Mister Fantastic! Disfrutaréis de un espectáculo 
 lleno de ritmo\,  locuras divertidísimas y[..]\nhttps://aytoconsuegra.es/a
 genda-ciudadana/mister-fantastic-de-francis-zafrilla/
URL:https://aytoconsuegra.es/agenda-ciudadana/mister-fantastic-de-francis-zafrilla/
END:VEVENT
END:VCALENDAR