BEGIN:VCALENDAR
VERSION:2.0
PRODID:-//eventon.com NONSGML v1.0//EN
CALSCALE:GREGORIAN
METHOD:PUBLISH
BEGIN:VEVENT
UID:69eaa4864139c
DTSTAMP:20260423T230022Z
DTSTART:20210522T200000Z
DTEND:20210522T235000Z
LOCATION:
SUMMARY:Vida=Sueño de Miseria y Hambre Producciones
DESCRIPTION:TEATRO DON QUIJOTE DE CONSUEGRA Miseria y Hambre Producciones p
 resenta Vida=Sueño SÁBADO 22 DE MAYO DE 2021 20:00 HORAS Espectáculo juv
 enil y adulto Entrada Anticipada: 3 € Entrada Mismo Día: 5 € VIDA=SUE
 O Miseria y Hambre Producciones La vida es sueño de Calderón de la Barca
  para no iniciados Porque[..]\nhttps://aytoconsuegra.es/agenda-ciudadana/vi
 dasueno-de-miseria-y-hambre-producciones/
URL:https://aytoconsuegra.es/agenda-ciudadana/vidasueno-de-miseria-y-hambre-producciones/
END:VEVENT
END:VCALENDAR