BEGIN:VCALENDAR
VERSION:2.0
PRODID:-//eventon.com NONSGML v1.0//EN
CALSCALE:GREGORIAN
METHOD:PUBLISH
BEGIN:VEVENT
UID:69ea905616677
DTSTAMP:20260423T213414Z
DTSTART:20210605T200000Z
DTEND:20210605T235000Z
LOCATION:
SUMMARY:El nuevo mundo de Osofete de Arte Fusión Títeres
DESCRIPTION:TEATRO DON QUIJOTE DE CONSUEGRA Arte Fusión Títeres presenta 
 El nuevo mundo de Osofete SÁBADO 5 DE JUNIO DE 2021 20:00 HORAS Espectácu
 lo infantil y familiar Entrada Infantil: 2 € Entrada Adulto: 3 € Día M
 undial del Medio Ambiente Arte Fusión realiza este espectáculo musical y 
 con actuación con la[..]\nhttps://aytoconsuegra.es/agenda-ciudadana/el-nue
 vo-mundo-de-osofete-de-arte-fusion-titeres/
URL:https://aytoconsuegra.es/agenda-ciudadana/el-nuevo-mundo-de-osofete-de-arte-fusion-titeres/
END:VEVENT
END:VCALENDAR