BEGIN:VCALENDAR
VERSION:2.0
PRODID:-//eventon.com NONSGML v1.0//EN
CALSCALE:GREGORIAN
METHOD:PUBLISH
BEGIN:VEVENT
UID:69ea75f48de1a
DTSTAMP:20260423T194140Z
DTSTART:20210424T193000Z
DTEND:20210424T235000Z
LOCATION:
SUMMARY:Conciertos de Primavera. Los colores del sonido 1
DESCRIPTION:TEATRO DON QUIJOTE DE CONSUEGRA Concierto de Primavera 2021 Los
  colores del sonido 1 SÁBADO 24 DE ABRIL DE 2021 19:30 HORAS Entrada 1€ 
 Concierto de Primavera\,  Los Colores del Sonido 1 A cargo de la Banda Sin
 fónica de Consuegra. Director: Vicente M. Palop Valero Ensembles de Vient
 o Madera y Cuerda Venta[..]\nhttps://aytoconsuegra.es/agenda-ciudadana/conc
 iertos-de-primavera-los-colores-del-sonido-1/
URL:https://aytoconsuegra.es/agenda-ciudadana/conciertos-de-primavera-los-colores-del-sonido-1/
END:VEVENT
END:VCALENDAR