BEGIN:VCALENDAR
VERSION:2.0
PRODID:-//eventon.com NONSGML v1.0//EN
CALSCALE:GREGORIAN
METHOD:PUBLISH
BEGIN:VEVENT
UID:69ea615991ae4
DTSTAMP:20260423T181345Z
DTSTART:20210425T120000Z
DTEND:20210425T235000Z
LOCATION:
SUMMARY:Conciertos de Primavera. Los colores del sonido 2
DESCRIPTION:TEATRO DON QUIJOTE DE CONSUEGRA Concierto de Primavera 2021 Los
  colores del sonido 2 DOMINGO 25 DE ABRIL DE 2021 12:00 HORAS Entrada 1€ 
 Concierto de Primavera\,  Los Colores del Sonido 2 A cargo de la Banda Sin
 fónica de Consuegra. Director: Vicente M. Palop Valero Ensembles de Vient
 o Metal y Percusión Venta[..]\nhttps://aytoconsuegra.es/agenda-ciudadana/c
 onciertos-de-primavera-los-colores-del-sonido-2/
URL:https://aytoconsuegra.es/agenda-ciudadana/conciertos-de-primavera-los-colores-del-sonido-2/
END:VEVENT
END:VCALENDAR