BEGIN:VCALENDAR
VERSION:2.0
PRODID:-//eventon.com NONSGML v1.0//EN
CALSCALE:GREGORIAN
METHOD:PUBLISH
BEGIN:VEVENT
UID:69ea3844017c8
DTSTAMP:20260423T151828Z
DTSTART:20210501
DTEND:20210502
LOCATION:
SUMMARY:Torneo Infantil de Padel "Primavera 2021"
DESCRIPTION:Consuegra Padel Club con el patrocinio del Excmo. Ayuntamiento 
 de Consuegra organiza TORNEO INFANTIL DE PRIMAVERA 2021 Sábado 1 de mayo 5
  € por pareja Inscripciones antes del 26 de abril enviando un correo 📧
  consuegrapadelclub@gmail.com o whatsapp a 📲 605733591 Ingreso en la cue
 nta de Caja Rural de Toledo[..]\nhttps://aytoconsuegra.es/agenda-ciudadana/
 torneo-infantil-de-padel-primavera-2021/
URL:https://aytoconsuegra.es/agenda-ciudadana/torneo-infantil-de-padel-primavera-2021/
END:VEVENT
END:VCALENDAR