BEGIN:VCALENDAR
VERSION:2.0
PRODID:-//eventon.com NONSGML v1.0//EN
CALSCALE:GREGORIAN
METHOD:PUBLISH
BEGIN:VEVENT
UID:69ea21476833d
DTSTAMP:20260423T134023Z
DTSTART:20210507
DTEND:20210508
LOCATION:
SUMMARY:Torneo de Padel "Primavera 2021"
DESCRIPTION:Consuegra Padel Club con el patrocinio del Excmo. Ayuntamiento 
 de Consuegra organiza TORNEO DE PRIMAVERA 2021 Días 7\,  8 y 9 de mayo. So
 cios 10 € por pareja / No socios 15 € por pareja Categoría femenina y 
 masculina Inscripciones antes del 1 de mayo enviando un correo 📧 consueg
 rapadelclub@gmail.com[..]\nhttps://aytoconsuegra.es/agenda-ciudadana/torneo
 -de-padel-primavera-2021/
URL:https://aytoconsuegra.es/agenda-ciudadana/torneo-de-padel-primavera-2021/
END:VEVENT
END:VCALENDAR