BEGIN:VCALENDAR
VERSION:2.0
PRODID:-//eventon.com NONSGML v1.0//EN
CALSCALE:GREGORIAN
METHOD:PUBLISH
BEGIN:VEVENT
UID:69ea0c42ccdc1
DTSTAMP:20260423T121042Z
DTSTART:20210430T000000Z
DTEND:20210430T235000Z
LOCATION:
SUMMARY:Jornada FEDETO dirigida a Pymes y autónomos
DESCRIPTION:La delegación de Fedeto Madridejos/Mancha Toledana\,  dentro d
 el acuerdo de actuaciones suscrito con el ayuntamiento de #Consuegra\,  de 
 apoyo y asesoramiento a las Pymes y autónomos de la localidad\,  organiza 
 una jornada con carácter laboral. FECHA Y HORA: Viernes\,  30 de abril\,  
 a las 12:00h por ZOOM INSCRIPCIONES: https://www.fedetointranet.net/jornada
 -laboral-consuegra.htm Organizan[..]\nhttps://aytoconsuegra.es/agenda-ciuda
 dana/jornada-fedeto-dirigida-a-pymes-y-autonomos/
URL:https://aytoconsuegra.es/agenda-ciudadana/jornada-fedeto-dirigida-a-pymes-y-autonomos/
END:VEVENT
END:VCALENDAR