BEGIN:VCALENDAR
VERSION:2.0
PRODID:-//eventon.com NONSGML v1.0//EN
CALSCALE:GREGORIAN
METHOD:PUBLISH
BEGIN:VEVENT
UID:69e9f475bf39b
DTSTAMP:20260423T102909Z
DTSTART:20210516T050000Z
DTEND:20210516T235000Z
LOCATION:
SUMMARY:Raíces por Alberto Jiménez
DESCRIPTION:TEATRO DON QUIJOTE DE CONSUEGRA Domingo 16 de mayo de 2021 a la
 s 17:00 horas Entrada: 3€ Donativo a Cruz Roja Toledo. Alberto Jiménez\
 ,  percusión presenta Raíces. Este concierto está incluido en la gira 
 RAÍCES\,  en mayo de 2021\,  junto con los pasados recitales en Leipzig (A
 lemania) y Ciudad Real y el último[..]\nhttps://aytoconsuegra.es/agenda-ci
 udadana/raices-por-alberto-jimenez/
URL:https://aytoconsuegra.es/agenda-ciudadana/raices-por-alberto-jimenez/
END:VEVENT
END:VCALENDAR