BEGIN:VCALENDAR
VERSION:2.0
PRODID:-//eventon.com NONSGML v1.0//EN
CALSCALE:GREGORIAN
METHOD:PUBLISH
BEGIN:VEVENT
UID:69e9c685f2ddb
DTSTAMP:20260423T071309Z
DTSTART:20210526T170000Z
DTEND:20210526T235000Z
LOCATION:
SUMMARY:Charla "Sexualidad Femenina"
DESCRIPTION:El Centro de la Mujer de Consuegra ha programado una actividad 
 en conmemoración del Día Internacional de Acción por la salud de las Muj
 eres. El próximo miércoles 26 de Mayo\,  a las 17:00h\,  tenemos una cita
  con la psicóloga/sexóloga Rebeca López Marco\,  para hablar de sexualid
 ad femenina. ⏩ Acceso libre[..]\nhttps://aytoconsuegra.es/agenda-ciudadan
 a/charla-sexualidad-femenina/
URL:https://aytoconsuegra.es/agenda-ciudadana/charla-sexualidad-femenina/
END:VEVENT
END:VCALENDAR