BEGIN:VCALENDAR
VERSION:2.0
PRODID:-//eventon.com NONSGML v1.0//EN
CALSCALE:GREGORIAN
METHOD:PUBLISH
BEGIN:VEVENT
UID:69e9b3a6b0cc4
DTSTAMP:20260423T055238Z
DTSTART:20210612
DTEND:20210613
LOCATION:
SUMMARY:Torneo Infantil de Padel Verano 2021
DESCRIPTION:Consuegra Padel Club con la colaboración del Excmo. Ayuntamien
 to de Consuegra organiza TORNEO INFANTIL VERANO 2021. &nbsp; Sábado 12 de 
 junio. A partir de las 8:30h Solo para socios nacidos a partir de 2008.  I
 nscripciones hasta el 7 de junio\,  5€ por pareja. Ingreso en el número 
 de cuenta de[..]\nhttps://aytoconsuegra.es/agenda-ciudadana/torneo-infantil
 -de-padel-verano-2021/
URL:https://aytoconsuegra.es/agenda-ciudadana/torneo-infantil-de-padel-verano-2021/
END:VEVENT
END:VCALENDAR