BEGIN:VCALENDAR
VERSION:2.0
PRODID:-//eventon.com NONSGML v1.0//EN
CALSCALE:GREGORIAN
METHOD:PUBLISH
BEGIN:VEVENT
UID:69e99d341cbac
DTSTAMP:20260423T041652Z
DTSTART:20210618
DTEND:20210619
LOCATION:
SUMMARY:Torneo de Padel Verano 2021
DESCRIPTION:Consuegra Padel Club con la colaboración del Excmo. Ayuntamien
 to de Consuegra organiza TORNEO DE VERANO 2021. &nbsp; 📆 Del 18 al 20 de
  junio. Categorías masculina y femenina. ⚠️ Sólo para socios ✍️ I
 nscripciones hasta el 12 de junio\,  15€ por pareja. Ingreso en el númer
 o de cuenta de Caja[..]\nhttps://aytoconsuegra.es/agenda-ciudadana/torneo-d
 e-padel-verano-2021/
URL:https://aytoconsuegra.es/agenda-ciudadana/torneo-de-padel-verano-2021/
END:VEVENT
END:VCALENDAR