BEGIN:VCALENDAR
VERSION:2.0
PRODID:-//eventon.com NONSGML v1.0//EN
CALSCALE:GREGORIAN
METHOD:PUBLISH
BEGIN:VEVENT
UID:69e98710e0b3f
DTSTAMP:20260423T024224Z
DTSTART:20210618T103000Z
DTEND:20210618T235000Z
LOCATION:
SUMMARY:Acto de presentación Grupo de Estudios Campo de San Juan
DESCRIPTION:El próximo viernes 18 tendrá lugar la rueda de prensa y acto 
 público de presentación de la Asociación Cultural «Grupo de Estudios de
 l Campo de San Juan«.  Se celebrará a las 10:30 horas en el Castillo de 
 Consuegra. Seguidamente se realizará una visita al propio castillo sanjuan
 ista y al final[..]\nhttps://aytoconsuegra.es/agenda-ciudadana/acto-de-pres
 entacion-grupo-de-estudios-campo-de-san-juan/
URL:https://aytoconsuegra.es/agenda-ciudadana/acto-de-presentacion-grupo-de-estudios-campo-de-san-juan/
END:VEVENT
END:VCALENDAR