BEGIN:VCALENDAR
VERSION:2.0
PRODID:-//eventon.com NONSGML v1.0//EN
CALSCALE:GREGORIAN
METHOD:PUBLISH
BEGIN:VEVENT
UID:69e972717bbbe
DTSTAMP:20260423T011425Z
DTSTART:20210705T183000Z
DTEND:20210708T200000Z
LOCATION:
SUMMARY:Actividad "Mujeres que escriben"
DESCRIPTION:Os presentamos la actividad: &#8216;MUJERES QUE ESCRIBEN&#8217;
  que se desarrollará en el Centro de la Mujer de Consuegra los días 5\,  
 6\,  7 y 8 de Julio\,  de 18.30 a 20h\,  de manera presencial. Este «labor
 atorio expresivo» será impartido por la asociación MamaChama. El objetiv
 o es crear un espacio donde[..]\nhttps://aytoconsuegra.es/agenda-ciudadana/
 actividad-mujeres-que-escriben/
URL:https://aytoconsuegra.es/agenda-ciudadana/actividad-mujeres-que-escriben/
END:VEVENT
END:VCALENDAR