BEGIN:VCALENDAR
VERSION:2.0
PRODID:-//eventon.com NONSGML v1.0//EN
CALSCALE:GREGORIAN
METHOD:PUBLISH
BEGIN:VEVENT
UID:69e95ebeb5fd2
DTSTAMP:20260422T235022Z
DTSTART:20210625T100000Z
DTEND:20210625T235000Z
LOCATION:
SUMMARY:FEDETO. Jornada informativa para empresarios
DESCRIPTION:La delegación de Fedeto Madridejos/Mancha Toledana\,  dentro d
 el acuerdo de actuaciones suscrito con el ayuntamiento de #Consuegra\,  de 
 apoyo y asesoramiento a las Pymes y Autónomos de la localidad\,  organiza 
 jornada informativa para empresarios de la ciudad. FECHA Y HORA: Viernes\, 
  25 de junio\,  a las 10:00h por ZOOM INSCRIPCIONES:[..]\nhttps://aytoconsu
 egra.es/agenda-ciudadana/fedeto-jornada-informativa-para-empresarios/
URL:https://aytoconsuegra.es/agenda-ciudadana/fedeto-jornada-informativa-para-empresarios/
END:VEVENT
END:VCALENDAR