BEGIN:VCALENDAR
VERSION:2.0
PRODID:-//eventon.com NONSGML v1.0//EN
CALSCALE:GREGORIAN
METHOD:PUBLISH
BEGIN:VEVENT
UID:69e94b2b0891d
DTSTAMP:20260422T222651Z
DTSTART:20210709
DTEND:20210710
LOCATION:
SUMMARY:Torneo nocturno de tenis
DESCRIPTION:El Club de Tenis Consuegra organiza\,  con la colaboración del
  Ayuntamiento de Consuegra\,  TORNEO NOCTURNO de tenis\,  los días 9  y 1
 0 de julio. Ficha informativa: Socios 6€\,  No socios 10€. Límite ins
 cripción: 4 Julio. Mínimo 2/3 partidos jugados. Barra a precios populares
 . Barbacoa el sábado para todos los asistentes y[..]\nhttps://aytoconsuegr
 a.es/agenda-ciudadana/torneo-nocturno-de-tenis/
URL:https://aytoconsuegra.es/agenda-ciudadana/torneo-nocturno-de-tenis/
END:VEVENT
END:VCALENDAR