BEGIN:VCALENDAR
VERSION:2.0
PRODID:-//eventon.com NONSGML v1.0//EN
CALSCALE:GREGORIAN
METHOD:PUBLISH
BEGIN:VEVENT
UID:69e94b734b423
DTSTAMP:20260422T222803Z
DTSTART:20210702T220000Z
DTEND:20210702T120000Z
LOCATION:
SUMMARY:Taller virtual "como afrontar una entrevista de trabajo"
DESCRIPTION:El Ayuntamiento de Consuegra\,  a través del Centro de la Muje
 r y la colaboración de la Federación De Mujeres Progresistas\,  organizan
  el taller virtual «Cómo afrontar la entrevista de trabajo». El taller t
 endrá lugar  el próximo 2 de julio a través de la plataforma ZOOM de 10
 :00 a 12:00h y conoceremos[..]\nhttps://aytoconsuegra.es/agenda-ciudadana/
 taller-virtual-como-afrontar-una-entrevista-de-trabajo/
URL:https://aytoconsuegra.es/agenda-ciudadana/taller-virtual-como-afrontar-una-entrevista-de-trabajo/
END:VEVENT
END:VCALENDAR