BEGIN:VCALENDAR
VERSION:2.0
PRODID:-//eventon.com NONSGML v1.0//EN
CALSCALE:GREGORIAN
METHOD:PUBLISH
BEGIN:VEVENT
UID:69e980048a0e6
DTSTAMP:20260423T021220Z
DTSTART:20210701T210000Z
DTEND:20210701T235000Z
LOCATION:
SUMMARY:Pleno Ordinario
DESCRIPTION:Por Resolución de Alcaldía queda convocada SESIÓN ORDINARIA 
 del Pleno\,  la cual tendrá lugar el próximo día 1 de julio de 2021\,  a
  las 21:00 horas\,  en el Salón de Actos del Ayuntamiento\,  a fin de trat
 ar los siguientes asuntos indicados en el orden del día. Convocatoria y or
 den del[..]\nhttps://aytoconsuegra.es/agenda-ciudadana/pleno-ordinario-3/
URL:https://aytoconsuegra.es/agenda-ciudadana/pleno-ordinario-3/
END:VEVENT
END:VCALENDAR