BEGIN:VCALENDAR
VERSION:2.0
PRODID:-//eventon.com NONSGML v1.0//EN
CALSCALE:GREGORIAN
METHOD:PUBLISH
BEGIN:VEVENT
UID:69e9bdc4651e0
DTSTAMP:20260423T063548Z
DTSTART:20210716T210000Z
DTEND:20210716T235000Z
LOCATION:
SUMMARY:La Bruja Pinreles
DESCRIPTION:Arauca Media presenta La Bruja Pinreles. VIERNES 16 DE JULIO DE
  2021 21:00 HORAS Espectáculo familiar para todos los públicos Entrada: 1
  € En Patio Cervantes\,  junto a la Biblioteca Municipal (C/ Reyes Catól
 icos\,  2) Arauca Media presenta&#8230; La Bruja Pinreles La historia tiene
  cuatro protagonistas\,  con aspectos y capacidades[..]\nhttps://aytoconsue
 gra.es/agenda-ciudadana/la-bruja-pinreles/
URL:https://aytoconsuegra.es/agenda-ciudadana/la-bruja-pinreles/
END:VEVENT
END:VCALENDAR