BEGIN:VCALENDAR
VERSION:2.0
PRODID:-//eventon.com NONSGML v1.0//EN
CALSCALE:GREGORIAN
METHOD:PUBLISH
BEGIN:VEVENT
UID:69e9ebd75edfe
DTSTAMP:20260423T095223Z
DTSTART:20210723T210000Z
DTEND:20210723T235000Z
LOCATION:
SUMMARY:Magic Cadabra
DESCRIPTION:NUEVO ESPACIO CULTURAL «PATIO CERVANTES» Good Idea Company pr
 esenta Magic Cadabra. VIERNES 23 DE JULIO DE 2021 21:00 HORAS Espectáculo 
 familiar para todos los públicos Entrada: 1 € En Patio Cervantes\,  junt
 o a la Biblioteca Municipal (C/ Reyes Católicos\,  2) Magic Cadabra ¡Bien
 venidos y bienvenidas al mundo de lo posiblemente[..]\nhttps://aytoconsuegr
 a.es/agenda-ciudadana/magic-cadabra/
URL:https://aytoconsuegra.es/agenda-ciudadana/magic-cadabra/
END:VEVENT
END:VCALENDAR