BEGIN:VCALENDAR
VERSION:2.0
PRODID:-//eventon.com NONSGML v1.0//EN
CALSCALE:GREGORIAN
METHOD:PUBLISH
BEGIN:VEVENT
UID:69ea004bc5b98
DTSTAMP:20260423T111939Z
DTSTART:20210730T210000Z
DTEND:20210730T235000Z
LOCATION:
SUMMARY:Concierto enReDO menor
DESCRIPTION:NUEVO ESPACIO CULTURAL «PATIO CERVANTES» Títeres La Cacaramu
 sa presenta Concierto enReDo menor. VIERNES 30 DE JULIO DE 2021 21:00 HORAS
  Espectáculo familiar para todos los públicos Entrada: 1 € En Patio Cer
 vantes\,  junto a la Biblioteca Municipal (C/ Reyes Católicos\,  2) Concie
 rto enReDo menor Teatro musical con marionetas\,  un peculiar[..]\nhttps://
 aytoconsuegra.es/agenda-ciudadana/concierto-enredo-menor/
URL:https://aytoconsuegra.es/agenda-ciudadana/concierto-enredo-menor/
END:VEVENT
END:VCALENDAR