BEGIN:VCALENDAR
VERSION:2.0
PRODID:-//eventon.com NONSGML v1.0//EN
CALSCALE:GREGORIAN
METHOD:PUBLISH
BEGIN:VEVENT
UID:69ea18ea45950
DTSTAMP:20260423T130442Z
DTSTART:20210731T210000Z
DTEND:20210731T235000Z
LOCATION:
SUMMARY:El Lazarillo de Tormes
DESCRIPTION:NUEVO ESPACIO CULTURAL «PATIO CERVANTES» Títeres Barrilete p
 resenta El Lazarillo de Tormes. SÁBADO 31 DE JULIO DE 2021 21:00 HORAS Esp
 ectáculo familiar para todos los públicos Entrada: 1 € En Patio Cervant
 es\,  junto a la Biblioteca Municipal (C/ Reyes Católicos\,  2) El Lazaril
 lo de Tormes Nuestro protagonista\,  Lázaro\,  nace en[..]\nhttps://aytoco
 nsuegra.es/agenda-ciudadana/el-lazarillo-de-tormes-2/
URL:https://aytoconsuegra.es/agenda-ciudadana/el-lazarillo-de-tormes-2/
END:VEVENT
END:VCALENDAR