BEGIN:VCALENDAR
VERSION:2.0
PRODID:-//eventon.com NONSGML v1.0//EN
CALSCALE:GREGORIAN
METHOD:PUBLISH
BEGIN:VEVENT
UID:69ea3038a3dd8
DTSTAMP:20260423T144408Z
DTSTART:20210808T221500Z
DTEND:20210808T235000Z
LOCATION:
SUMMARY:Las aventuras del Dr. Dolittle
DESCRIPTION:NUEVO ESPACIO CULTURAL «PATIO CERVANTES» Las aventuras del Do
 ctor Dolittle. DOMINGO 8 DE AGOSTO DE 2021 22:15 HORAS Cine familiar para t
 odos los públicos Entrada: 1 € En Patio Cervantes\,  junto a la Bibliote
 ca Municipal (C/ Reyes Católicos\,  2) Las aventuras del doctor Dolittle D
 espués de perder a su mujer[..]\nhttps://aytoconsuegra.es/agenda-ciudadana
 /las-aventuras-del-dr-dolittle/
URL:https://aytoconsuegra.es/agenda-ciudadana/las-aventuras-del-dr-dolittle/
END:VEVENT
END:VCALENDAR