BEGIN:VCALENDAR
VERSION:2.0
PRODID:-//eventon.com NONSGML v1.0//EN
CALSCALE:GREGORIAN
METHOD:PUBLISH
BEGIN:VEVENT
UID:69ea460944f09
DTSTAMP:20260423T161713Z
DTSTART:20210820T210000Z
DTEND:20210820T235000Z
LOCATION:
SUMMARY:Caperucitas
DESCRIPTION:NUEVO ESPACIO CULTURAL «PATIO CERVANTES» 7 Bubbles presenta C
 aperucitas. VIERNES 20 DE AGOSTO DE 2021 21:00 HORAS Espectáculo familiar 
 para todos los públicos Entrada: 1 € En Patio Cervantes\,  junto a la Bi
 blioteca Municipal (C/ Reyes Católicos\,  2) Caperucitas Humor y fantasía
  envueltos en una intriga de situaciones. Todo nace[..]\nhttps://aytoconsue
 gra.es/agenda-ciudadana/caperucitas/
URL:https://aytoconsuegra.es/agenda-ciudadana/caperucitas/
END:VEVENT
END:VCALENDAR