BEGIN:VCALENDAR
VERSION:2.0
PRODID:-//eventon.com NONSGML v1.0//EN
CALSCALE:GREGORIAN
METHOD:PUBLISH
BEGIN:VEVENT
UID:69ea5c64f1647
DTSTAMP:20260423T175236Z
DTSTART:20210822T221500Z
DTEND:20210822T235000Z
LOCATION:
SUMMARY:Mascotas 2
DESCRIPTION:NUEVO ESPACIO CULTURAL «PATIO CERVANTES» Mascotas 2 DOMINGO 2
 2 DE AGOSTO DE 2021 22:15 HORAS Cine familiar para todos los públicos Entr
 ada: 1 € En Patio Cervantes\,  junto a la Biblioteca Municipal (C/ Reyes 
 Católicos\,  2) Mascotas 2 Max se enfrenta a nuevos e importantes cambios 
 en su vida: su[..]\nhttps://aytoconsuegra.es/agenda-ciudadana/mascotas-2/
URL:https://aytoconsuegra.es/agenda-ciudadana/mascotas-2/
END:VEVENT
END:VCALENDAR