BEGIN:VCALENDAR
VERSION:2.0
PRODID:-//eventon.com NONSGML v1.0//EN
CALSCALE:GREGORIAN
METHOD:PUBLISH
BEGIN:VEVENT
UID:69ea6c43e98f5
DTSTAMP:20260423T190019Z
DTSTART:20210724T220000Z
DTEND:20210724T235000Z
LOCATION:
SUMMARY:Concierto Extraordinario Banda Sinfónica de Consuegra
DESCRIPTION:Concierto Extraordinario de la Banda Sinfónica de Consuegra\, 
  bajo la batuta de su director Vicente M. Palop Valero. Sábado 24 de julio
  a las 22:00h en Plaza de Toros de Consuegra Se interpretarán obras de F. 
 de la Rosa\,  R. Talens\,  M. Morales\,  J. Suñer\,  J. Martínez Salamanc
 a\,  A. Reed[..]\nhttps://aytoconsuegra.es/agenda-ciudadana/concierto-extra
 ordinario-banda-sinfonica-de-consuegra/
URL:https://aytoconsuegra.es/agenda-ciudadana/concierto-extraordinario-banda-sinfonica-de-consuegra/
END:VEVENT
END:VCALENDAR