BEGIN:VCALENDAR
VERSION:2.0
PRODID:-//eventon.com NONSGML v1.0//EN
CALSCALE:GREGORIAN
METHOD:PUBLISH
BEGIN:VEVENT
UID:69eaadc7cbd3b
DTSTAMP:20260423T233951Z
DTSTART:20210820T210000Z
DTEND:20210820T230000Z
LOCATION:
SUMMARY:CARDIO BOX Y BODY PUMP MASTERCLASS. Evento benÃ©fico a favor de la ELA
DESCRIPTION:Durante el mes de agosto tendrÃ¡ lugar el siguiente evento benÃ
 ©fico a favor de la ELA: CARDIO BOX Y BODY PUMP MASTERCLASS Viernes 20 de a
 gosto\,  de 21:00 a 23:00 haciendo deporte contra la ELA al aire libre. 25 
 plazas disponibles. Precio: 5â‚¬ DonaciÃ³n socios de oxigeno02 cONSUEGRA 10
 â‚¬ DonaciÃ³n[..]\nhttps://aytoconsuegra.es/agenda-ciudadana/cardio-box-y-b
 ody-pump-masterclass-evento-benefico-a-favor-de-la-ela/
URL:https://aytoconsuegra.es/agenda-ciudadana/cardio-box-y-body-pump-masterclass-evento-benefico-a-favor-de-la-ela/
END:VEVENT
END:VCALENDAR