BEGIN:VCALENDAR
VERSION:2.0
PRODID:-//eventon.com NONSGML v1.0//EN
CALSCALE:GREGORIAN
METHOD:PUBLISH
BEGIN:VEVENT
UID:69eac1ddf0391
DTSTAMP:20260424T010533Z
DTSTART:20210827T210000Z
DTEND:20210827T120000Z
LOCATION:
SUMMARY:PEDAELA MARATÃ“N CICLO OUTDOOR 3 H NON STOP. Evento benÃ©fico a favor de la ELA
DESCRIPTION:Durante el mes de agosto tendrÃ¡ lugar el siguiente evento benÃ
 ©fico a favor de la ELA: PEDAELA MARATÃ“N CICLO OUTDOOR 3 H NON STOP Vierne
 s 27 de agosto\,  de 21:00 a 00:00 pedaleando al ritmo de la mÃºsica al air
 e libre Plazas limitadas\,  50 bicis\,  reserva la tuya. Precio: 25â‚¬[..]\
 nhttps://aytoconsuegra.es/agenda-ciudadana/pedaela-maraton-ciclo-outdoor-3-
 h-non-stop-evento-benefico-a-favor-de-la-ela-copy/
URL:https://aytoconsuegra.es/agenda-ciudadana/pedaela-maraton-ciclo-outdoor-3-h-non-stop-evento-benefico-a-favor-de-la-ela-copy/
END:VEVENT
END:VCALENDAR