BEGIN:VCALENDAR
VERSION:2.0
PRODID:-//eventon.com NONSGML v1.0//EN
CALSCALE:GREGORIAN
METHOD:PUBLISH
BEGIN:VEVENT
UID:69ead5bca7a87
DTSTAMP:20260424T023020Z
DTSTART:20210904T203000Z
DTEND:20210904T235000Z
LOCATION:
SUMMARY:V Carrera Nocturna "Farmacia Consuegra 2021"
DESCRIPTION:El próximo cuatro de septiembre tendrá lugar la V Carrera Noc
 turna «Farmacia Consuegra»\,  en la modalidad absoluta e infantil. Circui
 to totalmente urbano. Carrera nocturna ABSOLUTA Tramo único 6.5 km Fecha: 
 04/09/2021 &#8211; a partir de las 20:30h Paseo Ramón y Cajal junto al cam
 po de Fútbol Precio: 9 € (plazo[..]\nhttps://aytoconsuegra.es/agenda-ciu
 dadana/v-carrera-nocturna-farmacia-consuegra-2021/
URL:https://aytoconsuegra.es/agenda-ciudadana/v-carrera-nocturna-farmacia-consuegra-2021/
END:VEVENT
END:VCALENDAR